BEGIN:VCALENDAR
VERSION:2.0
PRODID:icalendar-ruby
CALSCALE:GREGORIAN
METHOD:PUBLISH
BEGIN:VEVENT
DTSTAMP:20260421T125245Z
UID:94d3199b-b114-4e3a-828b-96ca231b5801
DTSTART:20261031T140000
DTEND:20261101T020000
DESCRIPTION:<p>For the 1st time ever. We bring the fire to PORT ELIZABETH. 
 Get your tickets now</p>
LOCATION:to be announced
SUMMARY:PHOLA - Port Elizabeth
URL;VALUE=URI:https://phola.howler.co.za/PHolaportelizabeth
END:VEVENT
END:VCALENDAR
