BEGIN:VCALENDAR
VERSION:2.0
PRODID:icalendar-ruby
CALSCALE:GREGORIAN
METHOD:PUBLISH
BEGIN:VEVENT
DTSTAMP:20260421T123432Z
UID:33b54231-76ec-4c23-a8b5-1c2c42288e70
DTSTART:20261218T140000
DTEND:20261219T020000
DESCRIPTION:<p>PHOLA RETURNS TO EAST LONDON. Get your tickets now!</p><p><b
 r></p><p>For the 1st time ever. We bring the fire to PORT ELIZABETH. Get y
 our tickets now</p><p> </p><p><br></p>
LOCATION:to be announced
SUMMARY:PHOLA - East London
URL;VALUE=URI:https://phola.howler.co.za/PHolaeastlondon
END:VEVENT
END:VCALENDAR
